BEGIN:VCALENDAR
VERSION:2.0
PRODID:Events Booking
BEGIN:VEVENT
UID:69ea6354d45a8
SUMMARY:Kuulekuskoolitus
DESCRIPTION:Kuulekuskoolitus eksamite ja võistelemise eesmärgil (KK\, IGP
 \, BH) aga sobib ka kodukoertele. 
 Lähem info tel 514 2810 Lauri või 
 524 0330 Terje
LOCATION:Põllu 14
DTSTART:20240625T150000Z
DTEND:20240625T170000Z
DTSTAMP:20231029T153451Z
ORGANIZER;CN=ipoabc.ee:MAILTO:trainings@ipoabc.ee
GEO:59.191247;25.162189
X-APPLE-STRUCTURED-LOCATION;VALUE=URI;X-ADDRESS=Põllu 14;X-APPLE-RADIUS=72
 ;X-TITLE=Kose:59.191247;25.162189
END:VEVENT
END:VCALENDAR